BEGIN:VCALENDAR
VERSION:2.0
PRODID:-//wp-events-plugin.com//7.2.3.1//EN
TZID:America/New_York
X-WR-TIMEZONE:America/New_York
BEGIN:VEVENT
UID:2@thekingdomuniversity.org
DTSTART;TZID=America/New_York:20230410T090000
DTEND;TZID=America/New_York:20230410T100000
DTSTAMP:20230329T013650Z
URL:https://thekingdomuniversity.org/events/discovering-the-lost-kingdom-2
 023-04-10/
SUMMARY:Discovering the Lost Kingdom (DTLK) | April 2023
DESCRIPTION:
ATTACH;FMTTYPE=image/jpeg:https://thekingdomuniversity.org/wp-content/uplo
 ads/2022/12/Course_dtlk_450x450.jpg
END:VEVENT
BEGIN:VTIMEZONE
TZID:America/New_York
X-LIC-LOCATION:America/New_York
BEGIN:DAYLIGHT
DTSTART:20230312T030000
TZOFFSETFROM:-0500
TZOFFSETTO:-0400
TZNAME:EDT
END:DAYLIGHT
END:VTIMEZONE
END:VCALENDAR